BEGIN:VCALENDAR
VERSION:2.0
PRODID:-//Bowen Family Systems Theory - ECPv6.15.20//NONSGML v1.0//EN
CALSCALE:GREGORIAN
METHOD:PUBLISH
X-ORIGINAL-URL:https://www.kcfamilysystems.org
X-WR-CALDESC:Events for Bowen Family Systems Theory
REFRESH-INTERVAL;VALUE=DURATION:PT1H
X-Robots-Tag:noindex
X-PUBLISHED-TTL:PT1H
BEGIN:VTIMEZONE
TZID:America/Chicago
BEGIN:DAYLIGHT
TZOFFSETFROM:-0600
TZOFFSETTO:-0500
TZNAME:CDT
DTSTART:20190310T080000
END:DAYLIGHT
BEGIN:STANDARD
TZOFFSETFROM:-0500
TZOFFSETTO:-0600
TZNAME:CST
DTSTART:20191103T070000
END:STANDARD
BEGIN:DAYLIGHT
TZOFFSETFROM:-0600
TZOFFSETTO:-0500
TZNAME:CDT
DTSTART:20200308T080000
END:DAYLIGHT
BEGIN:STANDARD
TZOFFSETFROM:-0500
TZOFFSETTO:-0600
TZNAME:CST
DTSTART:20201101T070000
END:STANDARD
BEGIN:DAYLIGHT
TZOFFSETFROM:-0600
TZOFFSETTO:-0500
TZNAME:CDT
DTSTART:20210314T080000
END:DAYLIGHT
BEGIN:STANDARD
TZOFFSETFROM:-0500
TZOFFSETTO:-0600
TZNAME:CST
DTSTART:20211107T070000
END:STANDARD
BEGIN:DAYLIGHT
TZOFFSETFROM:-0600
TZOFFSETTO:-0500
TZNAME:CDT
DTSTART:20220313T080000
END:DAYLIGHT
BEGIN:STANDARD
TZOFFSETFROM:-0500
TZOFFSETTO:-0600
TZNAME:CST
DTSTART:20221106T070000
END:STANDARD
BEGIN:DAYLIGHT
TZOFFSETFROM:-0600
TZOFFSETTO:-0500
TZNAME:CDT
DTSTART:20230312T080000
END:DAYLIGHT
BEGIN:STANDARD
TZOFFSETFROM:-0500
TZOFFSETTO:-0600
TZNAME:CST
DTSTART:20231105T070000
END:STANDARD
BEGIN:DAYLIGHT
TZOFFSETFROM:-0600
TZOFFSETTO:-0500
TZNAME:CDT
DTSTART:20240310T080000
END:DAYLIGHT
BEGIN:STANDARD
TZOFFSETFROM:-0500
TZOFFSETTO:-0600
TZNAME:CST
DTSTART:20241103T070000
END:STANDARD
END:VTIMEZONE
BEGIN:VEVENT
DTSTART;TZID=America/Chicago:20230109T123000
DTEND;TZID=America/Chicago:20230109T140000
DTSTAMP:20260423T133642
CREATED:20220926T184508Z
LAST-MODIFIED:20220926T184508Z
UID:1740-1673267400-1673272800@www.kcfamilysystems.org
SUMMARY:Bowen Theory Webcast Series
DESCRIPTION:These are monthly\, 90-minute webcasts featuring Michael Kerr\, MD\, or Kathleen Kerr\, MSN\, CNS of the Bowen Theory Academy. \nMichael Kerr is President of the Board of the Bowen Theory Academy and theoretical leader of Bowen family systems theory. Kathleen Kerr is a founding Board Member of the Bowen Theory Academy where she is Treasurer\, provides technical support\, and coordinates both the Family History Database Project and the Research Seminar. \nWebcast sessions are designed to explicate Bowen theory concepts and principles. The Series is for anyone interested in furthering their understanding of Bowen family systems theory. The session topics are selected each month by Dr. Kerr. Some will be “live” and others will be recorded. Discussions will follow the session. 15 total CEUs available.
URL:https://www.kcfamilysystems.org/event/bowen-theory-webcast-series-3/
LOCATION:Zoom
END:VEVENT
BEGIN:VEVENT
DTSTART;TZID=America/Chicago:20221223T123000
DTEND;TZID=America/Chicago:20221223T140000
DTSTAMP:20260423T133642
CREATED:20220926T184424Z
LAST-MODIFIED:20220926T184424Z
UID:1738-1671798600-1671804000@www.kcfamilysystems.org
SUMMARY:Bowen Theory Webcast Series
DESCRIPTION:These are monthly\, 90-minute webcasts featuring Michael Kerr\, MD\, or Kathleen Kerr\, MSN\, CNS of the Bowen Theory Academy. \nMichael Kerr is President of the Board of the Bowen Theory Academy and theoretical leader of Bowen family systems theory. Kathleen Kerr is a founding Board Member of the Bowen Theory Academy where she is Treasurer\, provides technical support\, and coordinates both the Family History Database Project and the Research Seminar. \nWebcast sessions are designed to explicate Bowen theory concepts and principles. The Series is for anyone interested in furthering their understanding of Bowen family systems theory. The session topics are selected each month by Dr. Kerr. Some will be “live” and others will be recorded. Discussions will follow the session. 15 total CEUs available.
URL:https://www.kcfamilysystems.org/event/bowen-theory-webcast-series-2/
LOCATION:Zoom
END:VEVENT
BEGIN:VEVENT
DTSTART;TZID=America/Chicago:20221216T090000
DTEND;TZID=America/Chicago:20221216T160000
DTSTAMP:20260423T133642
CREATED:20220926T185324Z
LAST-MODIFIED:20220926T185324Z
UID:1754-1671181200-1671206400@www.kcfamilysystems.org
SUMMARY:Education & Training
DESCRIPTION:The Series is a unique\, concentrated course of learning and study of Bowen family systems theory with presentations by KC Center faculty and national guest lecturers. Participants are individuals with Masters or Doctorate degrees from a broad range of professional backgrounds who’ve had some exposure to Bowen family systems theory. Participation is not limited only to mental and health professionals.
URL:https://www.kcfamilysystems.org/event/education-training-3/
LOCATION:Zoom
END:VEVENT
BEGIN:VEVENT
DTSTART;TZID=America/Chicago:20221202T123000
DTEND;TZID=America/Chicago:20221202T140000
DTSTAMP:20260423T133642
CREATED:20220926T184256Z
LAST-MODIFIED:20220926T184256Z
UID:1736-1669984200-1669989600@www.kcfamilysystems.org
SUMMARY:Bowen Theory Webcast Series
DESCRIPTION:These are monthly\, 90-minute webcasts featuring Michael Kerr\, MD\, or Kathleen Kerr\, MSN\, CNS of the Bowen Theory Academy. \nMichael Kerr is President of the Board of the Bowen Theory Academy and theoretical leader of Bowen family systems theory. Kathleen Kerr is a founding Board Member of the Bowen Theory Academy where she is Treasurer\, provides technical support\, and coordinates both the Family History Database Project and the Research Seminar. \nWebcast sessions are designed to explicate Bowen theory concepts and principles. The Series is for anyone interested in furthering their understanding of Bowen family systems theory. The session topics are selected each month by Dr. Kerr. Some will be “live” and others will be recorded. Discussions will follow the session. 15 total CEUs available.
URL:https://www.kcfamilysystems.org/event/bowen-theory-webcast-series/
END:VEVENT
BEGIN:VEVENT
DTSTART;TZID=America/Chicago:20221118T090000
DTEND;TZID=America/Chicago:20221118T160000
DTSTAMP:20260423T133642
CREATED:20220926T185245Z
LAST-MODIFIED:20220926T185245Z
UID:1752-1668762000-1668787200@www.kcfamilysystems.org
SUMMARY:Education & Training
DESCRIPTION:The Series is a unique\, concentrated course of learning and study of Bowen family systems theory with presentations by KC Center faculty and national guest lecturers. Participants are individuals with Masters or Doctorate degrees from a broad range of professional backgrounds who’ve had some exposure to Bowen family systems theory. Participation is not limited only to mental and health professionals.
URL:https://www.kcfamilysystems.org/event/education-training-2/
LOCATION:Zoom
END:VEVENT
BEGIN:VEVENT
DTSTART;TZID=America/Chicago:20221028T123000
DTEND;TZID=America/Chicago:20221028T140000
DTSTAMP:20260423T133642
CREATED:20220926T184054Z
LAST-MODIFIED:20220926T184054Z
UID:1734-1666960200-1666965600@www.kcfamilysystems.org
SUMMARY:Bowen Theory Academy Webcast Series
DESCRIPTION:These are monthly\, 90-minute webcasts featuring Michael Kerr\, MD\, or Kathleen Kerr\, MSN\, CNS of the Bowen Theory Academy. \nMichael Kerr is President of the Board of the Bowen Theory Academy and theoretical leader of Bowen family systems theory. Kathleen Kerr is a founding Board Member of the Bowen Theory Academy where she is Treasurer\, provides technical support\, and coordinates both the Family History Database Project and the Research Seminar. \nWebcast sessions are designed to explicate Bowen theory concepts and principles. The Series is for anyone interested in furthering their understanding of Bowen family systems theory. The session topics are selected each month by Dr. Kerr. Some will be “live” and others will be recorded. Discussions will follow the session. 15 total CEUs available.
URL:https://www.kcfamilysystems.org/event/bowen-theory-academy-webcast-series/
LOCATION:Zoom
END:VEVENT
BEGIN:VEVENT
DTSTART;TZID=America/Chicago:20221021T090000
DTEND;TZID=America/Chicago:20221021T160000
DTSTAMP:20260423T133642
CREATED:20220926T185157Z
LAST-MODIFIED:20220926T185157Z
UID:1750-1666342800-1666368000@www.kcfamilysystems.org
SUMMARY:Education & Training
DESCRIPTION:The Series is a unique\, concentrated course of learning and study of Bowen family systems theory with presentations by KC Center faculty and national guest lecturers. Participants are individuals with Masters or Doctorate degrees from a broad range of professional backgrounds who’ve had some exposure to Bowen family systems theory. Participation is not limited only to mental and health professionals.
URL:https://www.kcfamilysystems.org/event/education-training/
LOCATION:Zoom
END:VEVENT
BEGIN:VEVENT
DTSTART;VALUE=DATE:20221007
DTEND;VALUE=DATE:20221009
DTSTAMP:20260423T133642
CREATED:20220926T190018Z
LAST-MODIFIED:20220926T190018Z
UID:1766-1665100800-1665273599@www.kcfamilysystems.org
SUMMARY:BTA International Virtual Conference
DESCRIPTION:BTA International Virtual Conference Registration\, Fri\, Oct 7\, 2022 at 8:00 AM | Eventbrite \n  \n 
URL:https://www.kcfamilysystems.org/event/bta-international-virtual-conference/
END:VEVENT
BEGIN:VEVENT
DTSTART;TZID=America/Chicago:20220603T123000
DTEND;TZID=America/Chicago:20220603T140000
DTSTAMP:20260423T133642
CREATED:20220525T164928Z
LAST-MODIFIED:20220525T171514Z
UID:1698-1654259400-1654264800@www.kcfamilysystems.org
SUMMARY:BTA Webcast Series
DESCRIPTION:These are monthly\, 90-minute webcasts featuring Michael Kerr\, MD\, or Kathleen Kerr\, MSN\, CNS of the Bowen Theory Academy. \nMichael Kerr is President of the Board of the Bowen Theory Academy and theoretical leader of Bowen family systems theory. Kathleen Kerr is a founding Board Member of the Bowen Theory Academy where she is Treasurer\, provides technical support\, and coordinates both the Family History Database Project and the Research Seminar. \nWebcast sessions are designed to explicate Bowen theory concepts and principles. The Series is for anyone interested in furthering their understanding of Bowen family systems theory. The session topics are selected each month by Dr. Kerr. Some will be “live” and others will be recorded. Discussions will follow the session. 15 total CEUs available. \nREGISTRATION REQUIRED
URL:https://www.kcfamilysystems.org/event/bta-webcast-series-2/
LOCATION:Zoom
END:VEVENT
BEGIN:VEVENT
DTSTART;TZID=America/Chicago:20220527T123000
DTEND;TZID=America/Chicago:20220527T140000
DTSTAMP:20260423T133642
CREATED:20220525T164546Z
LAST-MODIFIED:20220525T171546Z
UID:1694-1653654600-1653660000@www.kcfamilysystems.org
SUMMARY:BTA Webcast Series
DESCRIPTION:These are monthly\, 90-minute webcasts featuring Michael Kerr\, MD\, or Kathleen Kerr\, MSN\, CNS of the Bowen Theory Academy. \nMichael Kerr is President of the Board of the Bowen Theory Academy and theoretical leader of Bowen family systems theory. Kathleen Kerr is a founding Board Member of the Bowen Theory Academy where she is Treasurer\, provides technical support\, and coordinates both the Family History Database Project and the Research Seminar. \nWebcast sessions are designed to explicate Bowen theory concepts and principles. The Series is for anyone interested in furthering their understanding of Bowen family systems theory. The session topics are selected each month by Dr. Kerr. Some will be “live” and others will be recorded. Discussions will follow the session. 15 total CEUs available. \n  \nREGISTRATION REQUIRED
URL:https://www.kcfamilysystems.org/event/bta-webcast-series/
LOCATION:Zoom
END:VEVENT
BEGIN:VEVENT
DTSTART;TZID=America/Chicago:20220218T090000
DTEND;TZID=America/Chicago:20220218T160000
DTSTAMP:20260423T133642
CREATED:20210602T170245Z
LAST-MODIFIED:20210602T170245Z
UID:1668-1645174800-1645200000@www.kcfamilysystems.org
SUMMARY:Postgraduate Education & Training
DESCRIPTION:
URL:https://www.kcfamilysystems.org/event/postgraduate-education-training-11/
LOCATION:Northland Human Services Building\, 3100 NE 83rd St.\, Kansas City\, MO\, 64119\, United States
END:VEVENT
BEGIN:VEVENT
DTSTART;TZID=America/Chicago:20220121T090000
DTEND;TZID=America/Chicago:20220121T160000
DTSTAMP:20260423T133642
CREATED:20210602T170148Z
LAST-MODIFIED:20210602T170148Z
UID:1666-1642755600-1642780800@www.kcfamilysystems.org
SUMMARY:Postgraduate Education & Training
DESCRIPTION:
URL:https://www.kcfamilysystems.org/event/postgraduate-education-training-10/
LOCATION:Northland Human Services Building\, 3100 NE 83rd St.\, Kansas City\, MO\, 64119\, United States
END:VEVENT
BEGIN:VEVENT
DTSTART;TZID=America/Chicago:20211217T090000
DTEND;TZID=America/Chicago:20211217T160000
DTSTAMP:20260423T133642
CREATED:20210602T170017Z
LAST-MODIFIED:20210602T170017Z
UID:1664-1639731600-1639756800@www.kcfamilysystems.org
SUMMARY:Postgraduate Education & Training
DESCRIPTION:
URL:https://www.kcfamilysystems.org/event/postgraduate-education-training-9/
LOCATION:Northland Human Services Building\, 3100 NE 83rd St.\, Kansas City\, MO\, 64119\, United States
END:VEVENT
BEGIN:VEVENT
DTSTART;TZID=America/Chicago:20211119T090000
DTEND;TZID=America/Chicago:20211119T160000
DTSTAMP:20260423T133642
CREATED:20210602T165833Z
LAST-MODIFIED:20210602T165833Z
UID:1662-1637312400-1637337600@www.kcfamilysystems.org
SUMMARY:Postgraduate Education & Training
DESCRIPTION:
URL:https://www.kcfamilysystems.org/event/postgraduate-education-training-8/
LOCATION:Northland Human Services Building\, 3100 NE 83rd St.\, Kansas City\, MO\, 64119\, United States
END:VEVENT
BEGIN:VEVENT
DTSTART;TZID=America/Chicago:20211015T090000
DTEND;TZID=America/Chicago:20211015T160000
DTSTAMP:20260423T133642
CREATED:20210602T165641Z
LAST-MODIFIED:20210602T165641Z
UID:1658-1634288400-1634313600@www.kcfamilysystems.org
SUMMARY:Postgraduate Education & Training
DESCRIPTION:
URL:https://www.kcfamilysystems.org/event/postgraduate-education-training-7/
LOCATION:Northland Human Services Building\, 3100 NE 83rd St.\, Kansas City\, MO\, 64119\, United States
ORGANIZER;CN="":MAILTO:info@kcfamilysystems.org
END:VEVENT
BEGIN:VEVENT
DTSTART;TZID=America/Chicago:20210917T090000
DTEND;TZID=America/Chicago:20210917T160000
DTSTAMP:20260423T133642
CREATED:20210602T165340Z
LAST-MODIFIED:20210602T165340Z
UID:1656-1631869200-1631894400@www.kcfamilysystems.org
SUMMARY:Postgraduate Education & Training
DESCRIPTION:
URL:https://www.kcfamilysystems.org/event/postgraduate-education-training-6/
LOCATION:Zoom
END:VEVENT
BEGIN:VEVENT
DTSTART;TZID=America/Chicago:20210625T123000
DTEND;TZID=America/Chicago:20210625T140000
DTSTAMP:20260423T133642
CREATED:20201005T150807Z
LAST-MODIFIED:20201005T152422Z
UID:1572-1624624200-1624629600@www.kcfamilysystems.org
SUMMARY:Webcast Series featuring Bowen Theory Academy
DESCRIPTION:
URL:https://www.kcfamilysystems.org/event/webcast-series-featuring-bowen-theory-academy-9/
LOCATION:Zoom
END:VEVENT
BEGIN:VEVENT
DTSTART;TZID=America/Chicago:20210528T123000
DTEND;TZID=America/Chicago:20210528T140000
DTSTAMP:20260423T133642
CREATED:20201005T150702Z
LAST-MODIFIED:20201005T152348Z
UID:1570-1622205000-1622210400@www.kcfamilysystems.org
SUMMARY:Webcast Series featuring Bowen Theory Academy
DESCRIPTION:
URL:https://www.kcfamilysystems.org/event/webcast-series-featuring-bowen-theory-academy-8/
LOCATION:Zoom
END:VEVENT
BEGIN:VEVENT
DTSTART;TZID=America/Chicago:20210521T090000
DTEND;TZID=America/Chicago:20210521T160000
DTSTAMP:20260423T133642
CREATED:20201130T192949Z
LAST-MODIFIED:20201130T192949Z
UID:1619-1621587600-1621612800@www.kcfamilysystems.org
SUMMARY:Postgraduate Education & Training
DESCRIPTION:
URL:https://www.kcfamilysystems.org/event/postgraduate-education-training-5/
LOCATION:Zoom
END:VEVENT
BEGIN:VEVENT
DTSTART;TZID=America/Chicago:20210423T123000
DTEND;TZID=America/Chicago:20210423T140000
DTSTAMP:20260423T133642
CREATED:20201005T150610Z
LAST-MODIFIED:20201005T152032Z
UID:1568-1619181000-1619186400@www.kcfamilysystems.org
SUMMARY:Webcast Series featuring Bowen Theory Academy
DESCRIPTION:
URL:https://www.kcfamilysystems.org/event/webcast-series-featuring-bowen-theory-academy-7/
LOCATION:Zoom
END:VEVENT
BEGIN:VEVENT
DTSTART;TZID=America/Chicago:20210416T090000
DTEND;TZID=America/Chicago:20210416T160000
DTSTAMP:20260423T133642
CREATED:20201130T192820Z
LAST-MODIFIED:20201130T192820Z
UID:1617-1618563600-1618588800@www.kcfamilysystems.org
SUMMARY:Postgraduate Education & Training
DESCRIPTION:
URL:https://www.kcfamilysystems.org/event/postgraduate-education-training-4/
LOCATION:Zoom
END:VEVENT
BEGIN:VEVENT
DTSTART;TZID=America/Chicago:20210402T080000
DTEND;TZID=America/Chicago:20210402T170000
DTSTAMP:20260423T133642
CREATED:20201005T150409Z
LAST-MODIFIED:20201005T151935Z
UID:1566-1617350400-1617382800@www.kcfamilysystems.org
SUMMARY:Webcast Series featuring Bowen Theory Academy
DESCRIPTION:
URL:https://www.kcfamilysystems.org/event/webcast-series-featuring-bowen-theory-academy-6/
LOCATION:Zoom
END:VEVENT
BEGIN:VEVENT
DTSTART;TZID=America/Chicago:20210326T084500
DTEND;TZID=America/Chicago:20210326T163000
DTSTAMP:20260423T133642
CREATED:20201109T223659Z
LAST-MODIFIED:20201109T223659Z
UID:1599-1616748300-1616776200@www.kcfamilysystems.org
SUMMARY:Heartland Conference
DESCRIPTION:
URL:https://www.kcfamilysystems.org/event/heartland-conference/
LOCATION:Zoom
END:VEVENT
BEGIN:VEVENT
DTSTART;TZID=America/Chicago:20210319T090000
DTEND;TZID=America/Chicago:20210319T160000
DTSTAMP:20260423T133642
CREATED:20201130T192708Z
LAST-MODIFIED:20201130T192708Z
UID:1615-1616144400-1616169600@www.kcfamilysystems.org
SUMMARY:Postgraduate Education & Training
DESCRIPTION:
URL:https://www.kcfamilysystems.org/event/postgraduate-education-training-3/
LOCATION:Zoom
END:VEVENT
BEGIN:VEVENT
DTSTART;TZID=America/Chicago:20210226T123000
DTEND;TZID=America/Chicago:20210226T140000
DTSTAMP:20260423T133642
CREATED:20201005T150325Z
LAST-MODIFIED:20201005T150325Z
UID:1564-1614342600-1614348000@www.kcfamilysystems.org
SUMMARY:Webcast Series featuring Bowen Theory Academy
DESCRIPTION:
URL:https://www.kcfamilysystems.org/event/webcast-series-featuring-bowen-theory-academy-5/
END:VEVENT
BEGIN:VEVENT
DTSTART;TZID=America/Chicago:20210219T090000
DTEND;TZID=America/Chicago:20210219T160000
DTSTAMP:20260423T133642
CREATED:20201130T192432Z
LAST-MODIFIED:20201130T192554Z
UID:1612-1613725200-1613750400@www.kcfamilysystems.org
SUMMARY:Postgraduate Education & Training
DESCRIPTION:
URL:https://www.kcfamilysystems.org/event/postgraduate-education-training-series/
LOCATION:Zoom
END:VEVENT
BEGIN:VEVENT
DTSTART;TZID=America/Chicago:20210122T123000
DTEND;TZID=America/Chicago:20210122T140000
DTSTAMP:20260423T133642
CREATED:20201005T150207Z
LAST-MODIFIED:20201005T151525Z
UID:1562-1611318600-1611324000@www.kcfamilysystems.org
SUMMARY:Webcast Series featuring Bowen Theory Academy
DESCRIPTION:
URL:https://www.kcfamilysystems.org/event/webcast-series-featuring-bowen-theory-academy-4/
LOCATION:Zoom
END:VEVENT
BEGIN:VEVENT
DTSTART;TZID=America/Chicago:20210115T090000
DTEND;TZID=America/Chicago:20210115T160000
DTSTAMP:20260423T133642
CREATED:20201125T171154Z
LAST-MODIFIED:20201125T171154Z
UID:1608-1610701200-1610726400@www.kcfamilysystems.org
SUMMARY:Postgraduate Education & Training
DESCRIPTION:
URL:https://www.kcfamilysystems.org/event/postgraduate-education-training-2/
LOCATION:Zoom
END:VEVENT
BEGIN:VEVENT
DTSTART;TZID=America/Chicago:20201218T123000
DTEND;TZID=America/Chicago:20201218T140000
DTSTAMP:20260423T133642
CREATED:20201005T150054Z
LAST-MODIFIED:20201005T151155Z
UID:1560-1608294600-1608300000@www.kcfamilysystems.org
SUMMARY:Webcast Series featuring Bowen Theory Academy
DESCRIPTION:
URL:https://www.kcfamilysystems.org/event/webcast-series-featuring-bowen-theory-academy-3/
LOCATION:Zoom
END:VEVENT
BEGIN:VEVENT
DTSTART;TZID=America/Chicago:20201204T090000
DTEND;TZID=America/Chicago:20201204T160000
DTSTAMP:20260423T133642
CREATED:20200713T204905Z
LAST-MODIFIED:20200721T213142Z
UID:1518-1607072400-1607097600@www.kcfamilysystems.org
SUMMARY:Postgraduate Education & Training
DESCRIPTION:
URL:https://www.kcfamilysystems.org/event/postgraduate-education-training-december/
END:VEVENT
END:VCALENDAR